BEGIN:VCALENDAR
VERSION:2.0
PRODID:-//213.154.231.201//NONSGML kigkonsult.se iCalcreator 2.20//
CALSCALE:GREGORIAN
METHOD:PUBLISH
X-WR-TIMEZONE:Europe/Amsterdam
BEGIN:VEVENT
UID:event195@Piratenkoor "de Stormvogels"
DTSTAMP:20260425T000559Z
CATEGORIES:Openbaar    Onb
DESCRIPTION:Nieuwjaarsbijeenkomst\nCategorie: Openbaar    Onb\nLink: http:/
 /piratenkoor.destormvogels.nl/index.php?option=com_jem&view=event&id=195:e
 rica\n
DTSTART;TZID=Europe/Amsterdam:20170107T200000
DTEND;TZID=Europe/Amsterdam:20170107T230000
LOCATION:'t Schienvat op Erica\,Heidebloemstraat 4\,7887 EB Erica
SUMMARY:Nieuwjaarsbijeenkomst
URL:http://piratenkoor.destormvogels.nl/index.php?option=com_jem&view=event
 &id=195:erica
END:VEVENT
END:VCALENDAR