BEGIN:VCALENDAR
VERSION:2.0
PRODID:-//213.154.231.201//NONSGML kigkonsult.se iCalcreator 2.20//
CALSCALE:GREGORIAN
METHOD:PUBLISH
X-WR-TIMEZONE:Europe/Amsterdam
BEGIN:VEVENT
UID:event197@Piratenkoor "de Stormvogels"
DTSTAMP:20260424T191735Z
CATEGORIES:Besloten    Onb
DESCRIPTION:Parkinsoncafè De Schans\nCategorie: Besloten    Onb\nLink: http
 ://piratenkoor.destormvogels.nl/index.php?option=com_jem&view=event&id=197
 :parkinsoncafe\n
DTSTART;TZID=Europe/Amsterdam:20170130T190000
DTEND;TZID=Europe/Amsterdam:20170130T213000
LOCATION:de Schans\, Emmen\,Laan van Het Kwekebos 118\,7823 LJ Emmen
SUMMARY:Parkinsoncafè De Schans
URL:http://piratenkoor.destormvogels.nl/index.php?option=com_jem&view=event
 &id=197:parkinsoncafe
END:VEVENT
END:VCALENDAR