BEGIN:VCALENDAR
VERSION:2.0
PRODID:-//213.154.231.201//NONSGML kigkonsult.se iCalcreator 2.20//
CALSCALE:GREGORIAN
METHOD:PUBLISH
X-WR-TIMEZONE:Europe/Amsterdam
BEGIN:VEVENT
UID:event200@Piratenkoor "de Stormvogels"
DTSTAMP:20260424T163441Z
CATEGORIES:Openbaar    Onb
DESCRIPTION:Middagmatinee\nCategorie: Openbaar    Onb\nLink: http://piraten
 koor.destormvogels.nl/index.php?option=com_jem&view=event&id=200:middagmat
 inee\n
DTSTART;TZID=Europe/Amsterdam:20170312T153000
DTEND;TZID=Europe/Amsterdam:20170312T163000
LOCATION:HCR Prinsen\,Eibergseweg 13\,7273 SP Haarlo
SUMMARY:Middagmatinee
URL:http://piratenkoor.destormvogels.nl/index.php?option=com_jem&view=event
 &id=200:middagmatinee
END:VEVENT
END:VCALENDAR