BEGIN:VCALENDAR
VERSION:2.0
PRODID:-//213.154.231.201//NONSGML kigkonsult.se iCalcreator 2.20//
CALSCALE:GREGORIAN
METHOD:PUBLISH
X-WR-TIMEZONE:Europe/Amsterdam
BEGIN:VEVENT
UID:event201@Piratenkoor "de Stormvogels"
DTSTAMP:20260424T165422Z
CATEGORIES:Openbaar    Onb
DESCRIPTION:10 jarig bestaan Buurtzorg   Zandpol\nCategorie: Openbaar    On
 b\nLink: http://piratenkoor.destormvogels.nl/index.php?option=com_jem&view
 =event&id=201:10-jarig-bestaan-buurtzorg-zandpol\n
DTSTART;TZID=Europe/Amsterdam:20170316T141500
DTEND;TZID=Europe/Amsterdam:20170316T164500
LOCATION:Zandpol\,Zandpol
SUMMARY:10 jarig bestaan Buurtzorg   Zandpol
URL:http://piratenkoor.destormvogels.nl/index.php?option=com_jem&view=event
 &id=201:10-jarig-bestaan-buurtzorg-zandpol
END:VEVENT
END:VCALENDAR