BEGIN:VCALENDAR
VERSION:2.0
PRODID:-//213.154.231.201//NONSGML kigkonsult.se iCalcreator 2.20//
CALSCALE:GREGORIAN
METHOD:PUBLISH
X-WR-TIMEZONE:Europe/Amsterdam
BEGIN:VEVENT
UID:event204@Piratenkoor "de Stormvogels"
DTSTAMP:20260424T224524Z
CATEGORIES:Openbaar    Onb
DESCRIPTION:M.F.C. Velemansdroom\nCategorie: Openbaar    Onb\nLink: http://
 piratenkoor.destormvogels.nl/index.php?option=com_jem&view=event&id=204:m-
 f-c-velemans-droom\n
DTSTART;TZID=Europe/Amsterdam:20170422T203000
DTEND;TZID=Europe/Amsterdam:20170422T233000
LOCATION:Tjuchem\,Tjuchem
SUMMARY:M.F.C. Velemansdroom
URL:http://piratenkoor.destormvogels.nl/index.php?option=com_jem&view=event
 &id=204:m-f-c-velemans-droom
END:VEVENT
END:VCALENDAR