BEGIN:VCALENDAR
VERSION:2.0
PRODID:-//213.154.231.201//NONSGML kigkonsult.se iCalcreator 2.20//
CALSCALE:GREGORIAN
METHOD:PUBLISH
X-WR-TIMEZONE:Europe/Amsterdam
BEGIN:VEVENT
UID:event207@Piratenkoor "de Stormvogels"
DTSTAMP:20260424T114844Z
CATEGORIES:Openbaar    Onb
DESCRIPTION:Fietsen ohne Grenzen (Markt Coevorden)\nCategorie: Openbaar    
 Onb\nLink: http://piratenkoor.destormvogels.nl/index.php?option=com_jem&vi
 ew=event&id=207:coevorden\n
DTSTART;TZID=Europe/Amsterdam:20170525T130000
DTEND;TZID=Europe/Amsterdam:20170525T163000
LOCATION:Coevorden\,Coevorden
SUMMARY:Fietsen ohne Grenzen (Markt Coevorden)
URL:http://piratenkoor.destormvogels.nl/index.php?option=com_jem&view=event
 &id=207:coevorden
END:VEVENT
END:VCALENDAR