BEGIN:VCALENDAR
VERSION:2.0
PRODID:-//213.154.231.201//NONSGML kigkonsult.se iCalcreator 2.20//
CALSCALE:GREGORIAN
METHOD:PUBLISH
X-WR-TIMEZONE:Europe/Amsterdam
BEGIN:VEVENT
UID:event209@Piratenkoor "de Stormvogels"
DTSTAMP:20260425T152252Z
CATEGORIES:Openbaar    Onb
DESCRIPTION:Shantyfestival Dordrecht\nCategorie: Openbaar    Onb\nLink: htt
 p://piratenkoor.destormvogels.nl/index.php?option=com_jem&view=event&id=20
 9:shantyfestival-dordrecht\n
DTSTART;TZID=Europe/Amsterdam:20170603T123000
DTEND;TZID=Europe/Amsterdam:20170603T173000
LOCATION:Dordrecht\,Merwekade\,Dordrecht
SUMMARY:Shantyfestival Dordrecht
URL:http://piratenkoor.destormvogels.nl/index.php?option=com_jem&view=event
 &id=209:shantyfestival-dordrecht
END:VEVENT
END:VCALENDAR