BEGIN:VCALENDAR
VERSION:2.0
PRODID:-//213.154.231.201//NONSGML kigkonsult.se iCalcreator 2.20//
CALSCALE:GREGORIAN
METHOD:PUBLISH
X-WR-TIMEZONE:Europe/Amsterdam
BEGIN:VEVENT
UID:event211@Piratenkoor "de Stormvogels"
DTSTAMP:20260425T210541Z
CATEGORIES:Openbaar    Onb
DESCRIPTION:Shantyfestival Woerden\nCategorie: Openbaar    Onb\nLink: http:
 //piratenkoor.destormvogels.nl/index.php?option=com_jem&view=event&id=211:
 shantyfestival-woerden\n
DTSTART;TZID=Europe/Amsterdam:20170610T110000
DTEND;TZID=Europe/Amsterdam:20170610T180000
LOCATION:Woerden\,Rijnstraat\,Woerden
SUMMARY:Shantyfestival Woerden
URL:http://piratenkoor.destormvogels.nl/index.php?option=com_jem&view=event
 &id=211:shantyfestival-woerden
END:VEVENT
END:VCALENDAR