BEGIN:VCALENDAR
VERSION:2.0
PRODID:-//213.154.231.201//NONSGML kigkonsult.se iCalcreator 2.20//
CALSCALE:GREGORIAN
METHOD:PUBLISH
X-WR-TIMEZONE:Europe/Amsterdam
BEGIN:VEVENT
UID:event213@Piratenkoor "de Stormvogels"
DTSTAMP:20260424T152447Z
CATEGORIES:Openbaar    Onb
DESCRIPTION:Jaarmarkt Zwartemeer\nCategorie: Openbaar    Onb\nLink: http://
 piratenkoor.destormvogels.nl/index.php?option=com_jem&view=event&id=213:ja
 armarkt-zwartemeer\n
DTSTART;TZID=Europe/Amsterdam:20170615T140000
DTEND;TZID=Europe/Amsterdam:20170615T163000
LOCATION:Zwartemeer\,Zwartemeer
SUMMARY:Jaarmarkt Zwartemeer
URL:http://piratenkoor.destormvogels.nl/index.php?option=com_jem&view=event
 &id=213:jaarmarkt-zwartemeer
END:VEVENT
END:VCALENDAR