BEGIN:VCALENDAR
VERSION:2.0
PRODID:-//213.154.231.201//NONSGML kigkonsult.se iCalcreator 2.20//
CALSCALE:GREGORIAN
METHOD:PUBLISH
X-WR-TIMEZONE:Europe/Amsterdam
BEGIN:VEVENT
UID:event218@Piratenkoor "de Stormvogels"
DTSTAMP:20260425T175718Z
CATEGORIES:Openbaar    Onb
DESCRIPTION:Optreden De Schans Emmen\nCategorie: Openbaar    Onb\nLink: htt
 p://piratenkoor.destormvogels.nl/index.php?option=com_jem&view=event&id=21
 8:emmen\n
DTSTART;TZID=Europe/Amsterdam:20170630T140000
DTEND;TZID=Europe/Amsterdam:20170630T160000
LOCATION:de Schans\, Emmen\,Laan van Het Kwekebos 118\,7823 LJ Emmen
SUMMARY:Optreden De Schans Emmen
URL:http://piratenkoor.destormvogels.nl/index.php?option=com_jem&view=event
 &id=218:emmen
END:VEVENT
END:VCALENDAR