BEGIN:VCALENDAR
VERSION:2.0
PRODID:-//213.154.231.201//NONSGML kigkonsult.se iCalcreator 2.20//
CALSCALE:GREGORIAN
METHOD:PUBLISH
X-WR-TIMEZONE:Europe/Amsterdam
BEGIN:VEVENT
UID:event219@Piratenkoor "de Stormvogels"
DTSTAMP:20260424T163438Z
CATEGORIES:Besloten    Onb
DESCRIPTION:Shantyfestival Veere (Zeeland)\nCategorie: Besloten    Onb\nLin
 k: http://piratenkoor.destormvogels.nl/index.php?option=com_jem&view=event
 &id=219:veere\n
DTSTART;TZID=Europe/Amsterdam:20170630T120000
DTEND;TZID=Europe/Amsterdam:20170630T173000
LOCATION:Veere\,Veere
SUMMARY:Shantyfestival Veere (Zeeland)
URL:http://piratenkoor.destormvogels.nl/index.php?option=com_jem&view=event
 &id=219:veere
END:VEVENT
END:VCALENDAR