BEGIN:VCALENDAR
VERSION:2.0
PRODID:-//213.154.231.201//NONSGML kigkonsult.se iCalcreator 2.20//
CALSCALE:GREGORIAN
METHOD:PUBLISH
X-WR-TIMEZONE:Europe/Amsterdam
BEGIN:VEVENT
UID:event220@Piratenkoor "de Stormvogels"
DTSTAMP:20260424T175720Z
CATEGORIES:Besloten    Onb
DESCRIPTION:Festiveul \nCategorie: Besloten    Onb\nLink: http://piratenkoo
 r.destormvogels.nl/index.php?option=com_jem&view=event&id=220:festiveul\n
DTSTART;TZID=Europe/Amsterdam:20170701T140000
DTEND;TZID=Europe/Amsterdam:20170701T150000
LOCATION:Schoonebeek\,Schoonebeek
SUMMARY:Festiveul 
URL:http://piratenkoor.destormvogels.nl/index.php?option=com_jem&view=event
 &id=220:festiveul
END:VEVENT
END:VCALENDAR