BEGIN:VCALENDAR
VERSION:2.0
PRODID:-//213.154.231.201//NONSGML kigkonsult.se iCalcreator 2.20//
CALSCALE:GREGORIAN
METHOD:PUBLISH
X-WR-TIMEZONE:Europe/Amsterdam
BEGIN:VEVENT
UID:event221@Piratenkoor "de Stormvogels"
DTSTAMP:20260424T232613Z
CATEGORIES:Openbaar    Onb
DESCRIPTION:Stads-Hafenfest\nCategorie: Openbaar    Onb\nLink: http://pirat
 enkoor.destormvogels.nl/index.php?option=com_jem&view=event&id=221:stads-h
 afenfest\n
DTSTART;TZID=Europe/Amsterdam:20170702T131500
DTEND;TZID=Europe/Amsterdam:20170702T180000
LOCATION:Wilhelmshaven (D)\,Bontekai\,26382 Wilhelmshaven
SUMMARY:Stads-Hafenfest
URL:http://piratenkoor.destormvogels.nl/index.php?option=com_jem&view=event
 &id=221:stads-hafenfest
END:VEVENT
END:VCALENDAR