BEGIN:VCALENDAR
VERSION:2.0
PRODID:-//213.154.231.201//NONSGML kigkonsult.se iCalcreator 2.20//
CALSCALE:GREGORIAN
METHOD:PUBLISH
X-WR-TIMEZONE:Europe/Amsterdam
BEGIN:VEVENT
UID:event222@Piratenkoor "de Stormvogels"
DTSTAMP:20260424T122457Z
CATEGORIES:Openbaar    Onb
DESCRIPTION:Laatste repetitieavond\nCategorie: Openbaar    Onb\nLink: http:
 //piratenkoor.destormvogels.nl/index.php?option=com_jem&view=event&id=222:
 laatste-repetitieavond\n
DTSTART;TZID=Europe/Amsterdam:20170704T193000
DTEND;TZID=Europe/Amsterdam:20170704T213000
LOCATION:'t Schienvat op Erica\,Heidebloemstraat 4\,7887 EB Erica
SUMMARY:Laatste repetitieavond
URL:http://piratenkoor.destormvogels.nl/index.php?option=com_jem&view=event
 &id=222:laatste-repetitieavond
END:VEVENT
END:VCALENDAR