BEGIN:VCALENDAR
VERSION:2.0
PRODID:-//213.154.231.201//NONSGML kigkonsult.se iCalcreator 2.20//
CALSCALE:GREGORIAN
METHOD:PUBLISH
X-WR-TIMEZONE:Europe/Amsterdam
BEGIN:VEVENT
UID:event223@Piratenkoor "de Stormvogels"
DTSTAMP:20260424T191606Z
CATEGORIES:Openbaar    Onb
DESCRIPTION:BBQ ...op het landgoed Riesebos\nCategorie: Openbaar    Onb\nLi
 nk: http://piratenkoor.destormvogels.nl/index.php?option=com_jem&view=even
 t&id=223:bbq-op-het-landgoed-riesebos\n
DTSTART;TZID=Europe/Amsterdam:20170707T170000
DTEND;TZID=Europe/Amsterdam:20170707T210000
LOCATION:Oosterhesselen\,Oosterhesselen
SUMMARY:BBQ ...op het landgoed Riesebos
URL:http://piratenkoor.destormvogels.nl/index.php?option=com_jem&view=event
 &id=223:bbq-op-het-landgoed-riesebos
END:VEVENT
END:VCALENDAR