BEGIN:VCALENDAR
VERSION:2.0
PRODID:-//213.154.231.201//NONSGML kigkonsult.se iCalcreator 2.20//
CALSCALE:GREGORIAN
METHOD:PUBLISH
X-WR-TIMEZONE:Europe/Amsterdam
BEGIN:VEVENT
UID:event224@Piratenkoor "de Stormvogels"
DTSTAMP:20260424T191605Z
CATEGORIES:Besloten    Onb
DESCRIPTION:Historische Havendagen Coevorden\nCategorie: Besloten    Onb\nL
 ink: http://piratenkoor.destormvogels.nl/index.php?option=com_jem&view=eve
 nt&id=224:havendagen-coevorden\n
DTSTART;TZID=Europe/Amsterdam:20170708T140000
DTEND;TZID=Europe/Amsterdam:20170708T163000
LOCATION:Coevorden\,Coevorden
SUMMARY:Historische Havendagen Coevorden
URL:http://piratenkoor.destormvogels.nl/index.php?option=com_jem&view=event
 &id=224:havendagen-coevorden
END:VEVENT
END:VCALENDAR