BEGIN:VCALENDAR
VERSION:2.0
PRODID:-//213.154.231.201//NONSGML kigkonsult.se iCalcreator 2.20//
CALSCALE:GREGORIAN
METHOD:PUBLISH
X-WR-TIMEZONE:Europe/Amsterdam
BEGIN:VEVENT
UID:event225@Piratenkoor "de Stormvogels"
DTSTAMP:20260425T030116Z
CATEGORIES:Openbaar    Onb
DESCRIPTION:Dzires Kuldiga Letland\nCategorie: Openbaar    Onb\nLink: http:
 //piratenkoor.destormvogels.nl/index.php?option=com_jem&view=event&id=225:
 duke-jacob-festival-kuldiga-letland\n
DTSTART;VALUE=DATE:20170711
DTEND;VALUE=DATE:20170719
LOCATION:Kuldiga (LV)\,Virkas iela 27\,LV-3301 Kuldiga
SUMMARY:Dzires Kuldiga Letland
URL:http://piratenkoor.destormvogels.nl/index.php?option=com_jem&view=event
 &id=225:duke-jacob-festival-kuldiga-letland
END:VEVENT
END:VCALENDAR