BEGIN:VCALENDAR
VERSION:2.0
PRODID:-//213.154.231.201//NONSGML kigkonsult.se iCalcreator 2.20//
CALSCALE:GREGORIAN
METHOD:PUBLISH
X-WR-TIMEZONE:Europe/Amsterdam
BEGIN:VEVENT
UID:event226@Piratenkoor "de Stormvogels"
DTSTAMP:20260424T182328Z
CATEGORIES:Openbaar    Onb
DESCRIPTION:Jaarmarkt Gees\nCategorie: Openbaar    Onb\nLink: http://pirate
 nkoor.destormvogels.nl/index.php?option=com_jem&view=event&id=226:jaarmark
 t-gees\n
DTSTART;TZID=Europe/Amsterdam:20170727T183000
DTEND;TZID=Europe/Amsterdam:20170727T210000
LOCATION:Gees\,Gees
SUMMARY:Jaarmarkt Gees
URL:http://piratenkoor.destormvogels.nl/index.php?option=com_jem&view=event
 &id=226:jaarmarkt-gees
END:VEVENT
END:VCALENDAR