BEGIN:VCALENDAR
VERSION:2.0
PRODID:-//213.154.231.201//NONSGML kigkonsult.se iCalcreator 2.20//
CALSCALE:GREGORIAN
METHOD:PUBLISH
X-WR-TIMEZONE:Europe/Amsterdam
BEGIN:VEVENT
UID:event229@Piratenkoor "de Stormvogels"
DTSTAMP:20260424T154806Z
CATEGORIES:Openbaar    Onb
DESCRIPTION:Veenvaartfestival\nCategorie: Openbaar    Onb\nLink: http://pir
 atenkoor.destormvogels.nl/index.php?option=com_jem&view=event&id=229:veenv
 aartfestival\n
DTSTART;TZID=Europe/Amsterdam:20170819T130000
DTEND;TZID=Europe/Amsterdam:20170819T170000
LOCATION:Emmer-Compascuum\,Emmer-Compascuum
SUMMARY:Veenvaartfestival
URL:http://piratenkoor.destormvogels.nl/index.php?option=com_jem&view=event
 &id=229:veenvaartfestival
END:VEVENT
END:VCALENDAR