BEGIN:VCALENDAR
VERSION:2.0
PRODID:-//213.154.231.201//NONSGML kigkonsult.se iCalcreator 2.20//
CALSCALE:GREGORIAN
METHOD:PUBLISH
X-WR-TIMEZONE:Europe/Amsterdam
BEGIN:VEVENT
UID:event230@Piratenkoor "de Stormvogels"
DTSTAMP:20260424T191540Z
CATEGORIES:Openbaar    Onb
DESCRIPTION:Shantyfestival  Dummersee\nCategorie: Openbaar    Onb\nLink: ht
 tp://piratenkoor.destormvogels.nl/index.php?option=com_jem&view=event&id=2
 30:shantyfestival-dummersee\n
DTSTART;TZID=Europe/Amsterdam:20170820T120000
DTEND;TZID=Europe/Amsterdam:20170820T180000
LOCATION:Hüde (D)\,Ludwig-Gefe-Stra\,49448 Hüde
SUMMARY:Shantyfestival  Dummersee
URL:http://piratenkoor.destormvogels.nl/index.php?option=com_jem&view=event
 &id=230:shantyfestival-dummersee
END:VEVENT
END:VCALENDAR