BEGIN:VCALENDAR
VERSION:2.0
PRODID:-//213.154.231.201//NONSGML kigkonsult.se iCalcreator 2.20//
CALSCALE:GREGORIAN
METHOD:PUBLISH
X-WR-TIMEZONE:Europe/Amsterdam
BEGIN:VEVENT
UID:event231@Piratenkoor "de Stormvogels"
DTSTAMP:20260424T212516Z
CATEGORIES:Openbaar    Onb
DESCRIPTION:Cafè Rest Buur`n\nCategorie: Openbaar    Onb\nLink: http://pira
 tenkoor.destormvogels.nl/index.php?option=com_jem&view=event&id=231:cafe-r
 est-buur-n\n
DTSTART;TZID=Europe/Amsterdam:20170823T140000
DTEND;TZID=Europe/Amsterdam:20170823T170000
LOCATION:Schoonebeek\,Schoonebeek
SUMMARY:Cafè Rest Buur`n
URL:http://piratenkoor.destormvogels.nl/index.php?option=com_jem&view=event
 &id=231:cafe-rest-buur-n
END:VEVENT
END:VCALENDAR