BEGIN:VCALENDAR
VERSION:2.0
PRODID:-//213.154.231.201//NONSGML kigkonsult.se iCalcreator 2.20//
CALSCALE:GREGORIAN
METHOD:PUBLISH
X-WR-TIMEZONE:Europe/Amsterdam
BEGIN:VEVENT
UID:event237@Piratenkoor "de Stormvogels"
DTSTAMP:20260424T175721Z
CATEGORIES:Besloten    Onb
DESCRIPTION:Winkelcentrum Emiclaer\nCategorie: Besloten    Onb\nLink: http:
 //piratenkoor.destormvogels.nl/index.php?option=com_jem&view=event&id=237:
 winkelcentrum-emiclaer\n
DTSTART;TZID=Europe/Amsterdam:20170916T130000
DTEND;TZID=Europe/Amsterdam:20170916T170000
LOCATION:Amersfoort\,Amersfoort
SUMMARY:Winkelcentrum Emiclaer
URL:http://piratenkoor.destormvogels.nl/index.php?option=com_jem&view=event
 &id=237:winkelcentrum-emiclaer
END:VEVENT
END:VCALENDAR