BEGIN:VCALENDAR
VERSION:2.0
PRODID:-//213.154.231.201//NONSGML kigkonsult.se iCalcreator 2.20//
CALSCALE:GREGORIAN
METHOD:PUBLISH
X-WR-TIMEZONE:Europe/Amsterdam
BEGIN:VEVENT
UID:event23@Piratenkoor "de Stormvogels"
DTSTAMP:20260425T105156Z
CATEGORIES:Openbaar    Onb
DESCRIPTION:Regge Coast - Festival - Nijverdal\nCategorie: Openbaar    Onb
 \nLink: http://piratenkoor.destormvogels.nl/index.php?option=com_jem&view=
 event&id=23:regge-coast-festival-nijverdal\n
DTSTART;TZID=Europe/Amsterdam:20120630T110000
DTEND;TZID=Europe/Amsterdam:20120630T170000
LOCATION:Nijverdal\,Nijverdal
SUMMARY:Regge Coast - Festival - Nijverdal
URL:http://piratenkoor.destormvogels.nl/index.php?option=com_jem&view=event
 &id=23:regge-coast-festival-nijverdal
END:VEVENT
END:VCALENDAR