BEGIN:VCALENDAR
VERSION:2.0
PRODID:-//213.154.231.201//NONSGML kigkonsult.se iCalcreator 2.20//
CALSCALE:GREGORIAN
METHOD:PUBLISH
X-WR-TIMEZONE:Europe/Amsterdam
BEGIN:VEVENT
UID:event240@Piratenkoor "de Stormvogels"
DTSTAMP:20260424T155547Z
CATEGORIES:Openbaar    Onb
DESCRIPTION:Branderfeesten\nCategorie: Openbaar    Onb\nLink: http://pirate
 nkoor.destormvogels.nl/index.php?option=com_jem&view=event&id=240:schiedam
 \n
DTSTART;TZID=Europe/Amsterdam:20170923T120000
DTEND;TZID=Europe/Amsterdam:20170924T170000
LOCATION:Schiedam\,Schiedam
SUMMARY:Branderfeesten
URL:http://piratenkoor.destormvogels.nl/index.php?option=com_jem&view=event
 &id=240:schiedam
END:VEVENT
END:VCALENDAR