BEGIN:VCALENDAR
VERSION:2.0
PRODID:-//213.154.231.201//NONSGML kigkonsult.se iCalcreator 2.20//
CALSCALE:GREGORIAN
METHOD:PUBLISH
X-WR-TIMEZONE:Europe/Amsterdam
BEGIN:VEVENT
UID:event241@Piratenkoor "de Stormvogels"
DTSTAMP:20260424T224440Z
CATEGORIES:Besloten    Onb
DESCRIPTION:Kibbelhof\nCategorie: Besloten    Onb\nLink: http://piratenkoor
 .destormvogels.nl/index.php?option=com_jem&view=event&id=241:kibbelkoele\n
DTSTART;TZID=Europe/Amsterdam:20170928T140000
DTEND;TZID=Europe/Amsterdam:20170928T160000
LOCATION:Schoonoord\,Kibbelveen 1\,7848 TA Schoonoord
SUMMARY:Kibbelhof
URL:http://piratenkoor.destormvogels.nl/index.php?option=com_jem&view=event
 &id=241:kibbelkoele
END:VEVENT
END:VCALENDAR