BEGIN:VCALENDAR
VERSION:2.0
PRODID:-//213.154.231.201//NONSGML kigkonsult.se iCalcreator 2.20//
CALSCALE:GREGORIAN
METHOD:PUBLISH
X-WR-TIMEZONE:Europe/Amsterdam
BEGIN:VEVENT
UID:event243@Piratenkoor "de Stormvogels"
DTSTAMP:20260425T005757Z
CATEGORIES:Besloten    Onb
DESCRIPTION:Optreden De Schoel  (wie wil is welkom)\nCategorie: Besloten   
  Onb\nLink: http://piratenkoor.destormvogels.nl/index.php?option=com_jem&v
 iew=event&id=243:optreden-de-schoel\n
DTSTART;TZID=Europe/Amsterdam:20171121T193000
DTEND;TZID=Europe/Amsterdam:20171121T213000
LOCATION:Sleen\,Drostenstraat 1\,Sleen
SUMMARY:Optreden De Schoel  (wie wil is welkom)
URL:http://piratenkoor.destormvogels.nl/index.php?option=com_jem&view=event
 &id=243:optreden-de-schoel
END:VEVENT
END:VCALENDAR