BEGIN:VCALENDAR
VERSION:2.0
PRODID:-//213.154.231.201//NONSGML kigkonsult.se iCalcreator 2.20//
CALSCALE:GREGORIAN
METHOD:PUBLISH
X-WR-TIMEZONE:Europe/Amsterdam
BEGIN:VEVENT
UID:event244@Piratenkoor "de Stormvogels"
DTSTAMP:20260424T191005Z
CATEGORIES:Besloten    Onb
DESCRIPTION:GEEN REPETITIE\nCategorie: Besloten    Onb\nLink: http://pirate
 nkoor.destormvogels.nl/index.php?option=com_jem&view=event&id=244:geen-rep
 etitie\n
DTSTART;TZID=Europe/Amsterdam:20171205T193000
DTEND;TZID=Europe/Amsterdam:20171205T213000
LOCATION:'t Schienvat op Erica\,Heidebloemstraat 4\,7887 EB Erica
SUMMARY:GEEN REPETITIE
URL:http://piratenkoor.destormvogels.nl/index.php?option=com_jem&view=event
 &id=244:geen-repetitie
END:VEVENT
END:VCALENDAR