BEGIN:VCALENDAR
VERSION:2.0
PRODID:-//213.154.231.201//NONSGML kigkonsult.se iCalcreator 2.20//
CALSCALE:GREGORIAN
METHOD:PUBLISH
X-WR-TIMEZONE:Europe/Amsterdam
BEGIN:VEVENT
UID:event245@Piratenkoor "de Stormvogels"
DTSTAMP:20260426T032658Z
CATEGORIES:Besloten    Onb
DESCRIPTION:Kerstmarkt\nCategorie: Besloten    Onb\nLink: http://piratenkoo
 r.destormvogels.nl/index.php?option=com_jem&view=event&id=245:kerstmarkt\n
DTSTART;TZID=Europe/Amsterdam:20171217T133000
DTEND;TZID=Europe/Amsterdam:20171217T170000
LOCATION:Zwartemeer\,Zwartemeer
SUMMARY:Kerstmarkt
URL:http://piratenkoor.destormvogels.nl/index.php?option=com_jem&view=event
 &id=245:kerstmarkt
END:VEVENT
END:VCALENDAR