BEGIN:VCALENDAR
VERSION:2.0
PRODID:-//213.154.231.201//NONSGML kigkonsult.se iCalcreator 2.20//
CALSCALE:GREGORIAN
METHOD:PUBLISH
X-WR-TIMEZONE:Europe/Amsterdam
BEGIN:VEVENT
UID:event246@Piratenkoor "de Stormvogels"
DTSTAMP:20260424T165106Z
CATEGORIES:Openbaar    Onb
DESCRIPTION:Afsluiting van een mooi jaar voor De Stormvogels met partners\n
 Categorie: Openbaar    Onb\nLink: http://piratenkoor.destormvogels.nl/inde
 x.php?option=com_jem&view=event&id=246:laatste-repetitieavond-met-partners
 \n
DTSTART;TZID=Europe/Amsterdam:20171219T200000
DTEND;TZID=Europe/Amsterdam:20171219T220000
LOCATION:'t Schienvat op Erica\,Heidebloemstraat 4\,7887 EB Erica
SUMMARY:Afsluiting van een mooi jaar voor De Stormvogels met partners
URL:http://piratenkoor.destormvogels.nl/index.php?option=com_jem&view=event
 &id=246:laatste-repetitieavond-met-partners
END:VEVENT
END:VCALENDAR