BEGIN:VCALENDAR
VERSION:2.0
PRODID:-//213.154.231.201//NONSGML kigkonsult.se iCalcreator 2.20//
CALSCALE:GREGORIAN
METHOD:PUBLISH
X-WR-TIMEZONE:Europe/Amsterdam
BEGIN:VEVENT
UID:event247@Piratenkoor "de Stormvogels"
DTSTAMP:20260424T165114Z
CATEGORIES:Openbaar   Derden
DESCRIPTION:Nieuwjaarsbijeenkomst De Stormvogels\nCategorie: Openbaar   Der
 den\nLink: http://piratenkoor.destormvogels.nl/index.php?option=com_jem&vi
 ew=event&id=247:nieuwjaarsbijeenkomst-de-stormvogels\n
DTSTART;TZID=Europe/Amsterdam:20180106T200000
DTEND;TZID=Europe/Amsterdam:20180106T235900
LOCATION:'t Schienvat op Erica\,Heidebloemstraat 4\,7887 EB Erica
SUMMARY:Nieuwjaarsbijeenkomst De Stormvogels
URL:http://piratenkoor.destormvogels.nl/index.php?option=com_jem&view=event
 &id=247:nieuwjaarsbijeenkomst-de-stormvogels
END:VEVENT
END:VCALENDAR