BEGIN:VCALENDAR
VERSION:2.0
PRODID:-//213.154.231.201//NONSGML kigkonsult.se iCalcreator 2.20//
CALSCALE:GREGORIAN
METHOD:PUBLISH
X-WR-TIMEZONE:Europe/Amsterdam
BEGIN:VEVENT
UID:event248@Piratenkoor "de Stormvogels"
DTSTAMP:20260425T180654Z
CATEGORIES:Openbaar     G.i.
DESCRIPTION:Eerste repetitieavond 2018\nCategorie: Openbaar     G.i.\nLink:
  http://piratenkoor.destormvogels.nl/index.php?option=com_jem&view=event&i
 d=248:eerste-repetitieavond-2018\n
DTSTART;TZID=Europe/Amsterdam:20180109T193000
DTEND;TZID=Europe/Amsterdam:20180109T213000
LOCATION:'t Schienvat op Erica\,Heidebloemstraat 4\,7887 EB Erica
SUMMARY:Eerste repetitieavond 2018
URL:http://piratenkoor.destormvogels.nl/index.php?option=com_jem&view=event
 &id=248:eerste-repetitieavond-2018
END:VEVENT
END:VCALENDAR