BEGIN:VCALENDAR
VERSION:2.0
PRODID:-//213.154.231.201//NONSGML kigkonsult.se iCalcreator 2.20//
CALSCALE:GREGORIAN
METHOD:PUBLISH
X-WR-TIMEZONE:Europe/Amsterdam
BEGIN:VEVENT
UID:event249@Piratenkoor "de Stormvogels"
DTSTAMP:20260424T192933Z
CATEGORIES:Openbaar     G.i.
DESCRIPTION:Theaterboerderij De Noorderbak      G.I \nCategorie: Openbaar  
    G.i.\nLink: http://piratenkoor.destormvogels.nl/index.php?option=com_je
 m&view=event&id=249:theaterboerderij-de-noorderbak\n
DTSTART;TZID=Europe/Amsterdam:20180317T200000
DTEND;TZID=Europe/Amsterdam:20180317T230000
LOCATION:Roswinkel\,Roswinkelerstraat 81B\,7895 AN Roswinkel
SUMMARY:Theaterboerderij De Noorderbak      G.I 
URL:http://piratenkoor.destormvogels.nl/index.php?option=com_jem&view=event
 &id=249:theaterboerderij-de-noorderbak
END:VEVENT
END:VCALENDAR