BEGIN:VCALENDAR
VERSION:2.0
PRODID:-//213.154.231.201//NONSGML kigkonsult.se iCalcreator 2.20//
CALSCALE:GREGORIAN
METHOD:PUBLISH
X-WR-TIMEZONE:Europe/Amsterdam
BEGIN:VEVENT
UID:event24@Piratenkoor "de Stormvogels"
DTSTAMP:20260424T154805Z
CATEGORIES:Openbaar    Onb
DESCRIPTION:Visserijdagen Stavoren \nCategorie: Openbaar    Onb\nLink: http
 ://piratenkoor.destormvogels.nl/index.php?option=com_jem&view=event&id=24:
 visserijdagen-stavoren\n
DTSTART;TZID=Europe/Amsterdam:20120721T200000
DTEND;TZID=Europe/Amsterdam:20120721T213000
LOCATION:Stavoren\,Stavoren
SUMMARY:Visserijdagen Stavoren 
URL:http://piratenkoor.destormvogels.nl/index.php?option=com_jem&view=event
 &id=24:visserijdagen-stavoren
END:VEVENT
END:VCALENDAR