BEGIN:VCALENDAR
VERSION:2.0
PRODID:-//213.154.231.201//NONSGML kigkonsult.se iCalcreator 2.20//
CALSCALE:GREGORIAN
METHOD:PUBLISH
X-WR-TIMEZONE:Europe/Amsterdam
BEGIN:VEVENT
UID:event250@Piratenkoor "de Stormvogels"
DTSTAMP:20260424T191529Z
CATEGORIES:Openbaar     G.i.
DESCRIPTION:Showavond `t Schienvat\nCategorie: Openbaar     G.i.\nLink: htt
 p://piratenkoor.destormvogels.nl/index.php?option=com_jem&view=event&id=25
 0:showavond-t-schienvat\n
DTSTART;TZID=Europe/Amsterdam:20180414T193000
DTEND;TZID=Europe/Amsterdam:20180414T220000
LOCATION:'t Schienvat op Erica\,Heidebloemstraat 4\,7887 EB Erica
SUMMARY:Showavond `t Schienvat
URL:http://piratenkoor.destormvogels.nl/index.php?option=com_jem&view=event
 &id=250:showavond-t-schienvat
END:VEVENT
END:VCALENDAR