BEGIN:VCALENDAR
VERSION:2.0
PRODID:-//213.154.231.201//NONSGML kigkonsult.se iCalcreator 2.20//
CALSCALE:GREGORIAN
METHOD:PUBLISH
X-WR-TIMEZONE:Europe/Amsterdam
BEGIN:VEVENT
UID:event252@Piratenkoor "de Stormvogels"
DTSTAMP:20260424T122358Z
CATEGORIES:Openbaar   Derden
DESCRIPTION:Koningsdag Naarden Vesting\nCategorie: Openbaar   Derden\nLink:
  http://piratenkoor.destormvogels.nl/index.php?option=com_jem&view=event&i
 d=252:koningsdag-naarden-vesting\n
DTSTART;TZID=Europe/Amsterdam:20180427T110000
DTEND;TZID=Europe/Amsterdam:20180427T170000
LOCATION:Naarden\,Marktstraat\,Naarden
SUMMARY:Koningsdag Naarden Vesting
URL:http://piratenkoor.destormvogels.nl/index.php?option=com_jem&view=event
 &id=252:koningsdag-naarden-vesting
END:VEVENT
END:VCALENDAR