BEGIN:VCALENDAR
VERSION:2.0
PRODID:-//213.154.231.201//NONSGML kigkonsult.se iCalcreator 2.20//
CALSCALE:GREGORIAN
METHOD:PUBLISH
X-WR-TIMEZONE:Europe/Amsterdam
BEGIN:VEVENT
UID:event253@Piratenkoor "de Stormvogels"
DTSTAMP:20260424T211935Z
CATEGORIES:Openbaar     G.i.
DESCRIPTION:Fietsen ohne Grenzen\nCategorie: Openbaar     G.i.\nLink: http:
 //piratenkoor.destormvogels.nl/index.php?option=com_jem&view=event&id=253:
 fietsen-ohne-grenzen\n
DTSTART;TZID=Europe/Amsterdam:20180510T130000
DTEND;TZID=Europe/Amsterdam:20180510T163000
LOCATION:Coevorden\,Coevorden
SUMMARY:Fietsen ohne Grenzen
URL:http://piratenkoor.destormvogels.nl/index.php?option=com_jem&view=event
 &id=253:fietsen-ohne-grenzen
END:VEVENT
END:VCALENDAR