BEGIN:VCALENDAR
VERSION:2.0
PRODID:-//213.154.231.201//NONSGML kigkonsult.se iCalcreator 2.20//
CALSCALE:GREGORIAN
METHOD:PUBLISH
X-WR-TIMEZONE:Europe/Amsterdam
BEGIN:VEVENT
UID:event254@Piratenkoor "de Stormvogels"
DTSTAMP:20260424T212502Z
CATEGORIES:Besloten    Onb
DESCRIPTION:De Kibbelhof\nCategorie: Besloten    Onb\nLink: http://piratenk
 oor.destormvogels.nl/index.php?option=com_jem&view=event&id=254:de-kibbelh
 of\n
DTSTART;TZID=Europe/Amsterdam:20180515T140000
DTEND;TZID=Europe/Amsterdam:20180515T160000
LOCATION:Schoonoord\,Kibbelveen 1\,7848 TA Schoonoord
SUMMARY:De Kibbelhof
URL:http://piratenkoor.destormvogels.nl/index.php?option=com_jem&view=event
 &id=254:de-kibbelhof
END:VEVENT
END:VCALENDAR