BEGIN:VCALENDAR
VERSION:2.0
PRODID:-//213.154.231.201//NONSGML kigkonsult.se iCalcreator 2.20//
CALSCALE:GREGORIAN
METHOD:PUBLISH
X-WR-TIMEZONE:Europe/Amsterdam
BEGIN:VEVENT
UID:event255@Piratenkoor "de Stormvogels"
DTSTAMP:20260425T145155Z
CATEGORIES:Openbaar    K.i.
DESCRIPTION:Shantyfestival Brummen\nCategorie: Openbaar    K.i.\nLink: http
 ://piratenkoor.destormvogels.nl/index.php?option=com_jem&view=event&id=255
 :shantyfestival-brummen\n
DTSTART;TZID=Europe/Amsterdam:20180521T130000
DTEND;TZID=Europe/Amsterdam:20180521T170000
LOCATION:Brummen\,Kerkstraat 17\,6971 AE Brummen
SUMMARY:Shantyfestival Brummen
URL:http://piratenkoor.destormvogels.nl/index.php?option=com_jem&view=event
 &id=255:shantyfestival-brummen
END:VEVENT
END:VCALENDAR