BEGIN:VCALENDAR
VERSION:2.0
PRODID:-//213.154.231.201//NONSGML kigkonsult.se iCalcreator 2.20//
CALSCALE:GREGORIAN
METHOD:PUBLISH
X-WR-TIMEZONE:Europe/Amsterdam
BEGIN:VEVENT
UID:event256@Piratenkoor "de Stormvogels"
DTSTAMP:20260424T175719Z
CATEGORIES:Openbaar     G.i.
DESCRIPTION:Dordt in Stoom\nCategorie: Openbaar     G.i.\nLink: http://pira
 tenkoor.destormvogels.nl/index.php?option=com_jem&view=event&id=256:dort-i
 n-stoom\n
DTSTART;TZID=Europe/Amsterdam:20180526T120000
DTEND;TZID=Europe/Amsterdam:20180527T170000
LOCATION:Dordrecht\,Merwekade\,Dordrecht
SUMMARY:Dordt in Stoom
URL:http://piratenkoor.destormvogels.nl/index.php?option=com_jem&view=event
 &id=256:dort-in-stoom
END:VEVENT
END:VCALENDAR