BEGIN:VCALENDAR
VERSION:2.0
PRODID:-//213.154.231.201//NONSGML kigkonsult.se iCalcreator 2.20//
CALSCALE:GREGORIAN
METHOD:PUBLISH
X-WR-TIMEZONE:Europe/Amsterdam
BEGIN:VEVENT
UID:event258@Piratenkoor "de Stormvogels"
DTSTAMP:20260424T191533Z
CATEGORIES:Besloten    K.i.
DESCRIPTION:Verpleeghuis De Bleerinck\nCategorie: Besloten    K.i.\nLink: h
 ttp://piratenkoor.destormvogels.nl/index.php?option=com_jem&view=event&id=
 258:verpleeghuis-de-bleerinck\n
DTSTART;TZID=Europe/Amsterdam:20180607T193000
DTEND;TZID=Europe/Amsterdam:20180607T210000
LOCATION:de Bleerinck\, Emmen\,Spehornerbrink 1\,7812 KA Emmen
SUMMARY:Verpleeghuis De Bleerinck
URL:http://piratenkoor.destormvogels.nl/index.php?option=com_jem&view=event
 &id=258:verpleeghuis-de-bleerinck
END:VEVENT
END:VCALENDAR