BEGIN:VCALENDAR
VERSION:2.0
PRODID:-//213.154.231.201//NONSGML kigkonsult.se iCalcreator 2.20//
CALSCALE:GREGORIAN
METHOD:PUBLISH
X-WR-TIMEZONE:Europe/Amsterdam
BEGIN:VEVENT
UID:event25@Piratenkoor "de Stormvogels"
DTSTAMP:20260424T192154Z
CATEGORIES:Openbaar    Onb
DESCRIPTION:Rijwiel4daagse - Angelslo\nCategorie: Openbaar    Onb\nLink: ht
 tp://piratenkoor.destormvogels.nl/index.php?option=com_jem&view=event&id=2
 5:rijwiel4daagse-angelslo\n
DTSTART;TZID=Europe/Amsterdam:20120724T193000
DTEND;TZID=Europe/Amsterdam:20120724T223000
LOCATION:Emmen\, Noordbarge\,Huizingsbrinkweg\,7812 BL Emmen
SUMMARY:Rijwiel4daagse - Angelslo
URL:http://piratenkoor.destormvogels.nl/index.php?option=com_jem&view=event
 &id=25:rijwiel4daagse-angelslo
END:VEVENT
END:VCALENDAR