BEGIN:VCALENDAR
VERSION:2.0
PRODID:-//213.154.231.201//NONSGML kigkonsult.se iCalcreator 2.20//
CALSCALE:GREGORIAN
METHOD:PUBLISH
X-WR-TIMEZONE:Europe/Amsterdam
BEGIN:VEVENT
UID:event260@Piratenkoor "de Stormvogels"
DTSTAMP:20260424T224440Z
CATEGORIES:Openbaar     G.i.
DESCRIPTION:Vlaggetjesdag\nCategorie: Openbaar     G.i.\nLink: http://pirat
 enkoor.destormvogels.nl/index.php?option=com_jem&view=event&id=260:vlagget
 jesdag\n
DTSTART;TZID=Europe/Amsterdam:20180616T120000
DTEND;TZID=Europe/Amsterdam:20180616T170000
LOCATION:Scheveningen\, Boulevard \,verlengde Palacestraat\,Scheveningen
SUMMARY:Vlaggetjesdag
URL:http://piratenkoor.destormvogels.nl/index.php?option=com_jem&view=event
 &id=260:vlaggetjesdag
END:VEVENT
END:VCALENDAR