BEGIN:VCALENDAR
VERSION:2.0
PRODID:-//213.154.231.201//NONSGML kigkonsult.se iCalcreator 2.20//
CALSCALE:GREGORIAN
METHOD:PUBLISH
X-WR-TIMEZONE:Europe/Amsterdam
BEGIN:VEVENT
UID:event261@Piratenkoor "de Stormvogels"
DTSTAMP:20260424T175732Z
CATEGORIES:Besloten    G.i.
DESCRIPTION:De Schans\nCategorie: Besloten    G.i.\nLink: http://piratenkoo
 r.destormvogels.nl/index.php?option=com_jem&view=event&id=261:de-schans\n
DTSTART;TZID=Europe/Amsterdam:20180628T140000
DTEND;TZID=Europe/Amsterdam:20180628T161500
LOCATION:de Schans\, Emmen\,Laan van Het Kwekebos 118\,7823 LJ Emmen
SUMMARY:De Schans
URL:http://piratenkoor.destormvogels.nl/index.php?option=com_jem&view=event
 &id=261:de-schans
END:VEVENT
END:VCALENDAR