BEGIN:VCALENDAR
VERSION:2.0
PRODID:-//213.154.231.201//NONSGML kigkonsult.se iCalcreator 2.20//
CALSCALE:GREGORIAN
METHOD:PUBLISH
X-WR-TIMEZONE:Europe/Amsterdam
BEGIN:VEVENT
UID:event266@Piratenkoor "de Stormvogels"
DTSTAMP:20260424T165442Z
CATEGORIES:Openbaar   Derden
DESCRIPTION:Fiets4daagse   Hampshire Hotel (Hondsrugzaal)\nCategorie: Openb
 aar   Derden\nLink: http://piratenkoor.destormvogels.nl/index.php?option=c
 om_jem&view=event&id=266:fiets4daagse-hampshire-hotel-hondsrugzaal\n
DTSTART;TZID=Europe/Amsterdam:20180726T130000
DTEND;TZID=Europe/Amsterdam:20180726T170000
LOCATION:Emmen\, Noordbarge\,Huizingsbrinkweg\,7812 BL Emmen
SUMMARY:Fiets4daagse   Hampshire Hotel (Hondsrugzaal)
URL:http://piratenkoor.destormvogels.nl/index.php?option=com_jem&view=event
 &id=266:fiets4daagse-hampshire-hotel-hondsrugzaal
END:VEVENT
END:VCALENDAR