BEGIN:VCALENDAR
VERSION:2.0
PRODID:-//213.154.231.201//NONSGML kigkonsult.se iCalcreator 2.20//
CALSCALE:GREGORIAN
METHOD:PUBLISH
X-WR-TIMEZONE:Europe/Amsterdam
BEGIN:VEVENT
UID:event268@Piratenkoor "de Stormvogels"
DTSTAMP:20260424T212500Z
CATEGORIES:Openbaar     G.i.
DESCRIPTION:Shanty Open Air\nCategorie: Openbaar     G.i.\nLink: http://pir
 atenkoor.destormvogels.nl/index.php?option=com_jem&view=event&id=268:shant
 y-open-air\n
DTSTART;TZID=Europe/Amsterdam:20180812T123000
DTEND;TZID=Europe/Amsterdam:20180812T180000
LOCATION:Geeste (D)\,Geeste 
SUMMARY:Shanty Open Air
URL:http://piratenkoor.destormvogels.nl/index.php?option=com_jem&view=event
 &id=268:shanty-open-air
END:VEVENT
END:VCALENDAR