BEGIN:VCALENDAR
VERSION:2.0
PRODID:-//213.154.231.201//NONSGML kigkonsult.se iCalcreator 2.20//
CALSCALE:GREGORIAN
METHOD:PUBLISH
X-WR-TIMEZONE:Europe/Amsterdam
BEGIN:VEVENT
UID:event26@Piratenkoor "de Stormvogels"
DTSTAMP:20260424T132015Z
CATEGORIES:Openbaar    Onb
DESCRIPTION:Shantyfestival\nCategorie: Openbaar    Onb\nLink: http://pirate
 nkoor.destormvogels.nl/index.php?option=com_jem&view=event&id=26:shantyfes
 tival\n
DTSTART;VALUE=DATE:20120805
DTEND;VALUE=DATE:20120806
LOCATION:Geeste (D)\,Geeste 
SUMMARY:Shantyfestival
URL:http://piratenkoor.destormvogels.nl/index.php?option=com_jem&view=event
 &id=26:shantyfestival
END:VEVENT
END:VCALENDAR