BEGIN:VCALENDAR
VERSION:2.0
PRODID:-//213.154.231.201//NONSGML kigkonsult.se iCalcreator 2.20//
CALSCALE:GREGORIAN
METHOD:PUBLISH
X-WR-TIMEZONE:Europe/Amsterdam
BEGIN:VEVENT
UID:event270@Piratenkoor "de Stormvogels"
DTSTAMP:20260424T191535Z
CATEGORIES:Openbaar     G.i.
DESCRIPTION: „Emlichheimer Vechtespektakel“.\nCategorie: Openbaar     G.i.
 \nLink: http://piratenkoor.destormvogels.nl/index.php?option=com_jem&view=
 event&id=270:veghte-fest-emlichheim\n
DTSTART;TZID=Europe/Amsterdam:20180825T140000
DTEND;TZID=Europe/Amsterdam:20180825T180000
LOCATION:Emlichheim (D)\,Emlichheim
SUMMARY: „Emlichheimer Vechtespektakel“.
URL:http://piratenkoor.destormvogels.nl/index.php?option=com_jem&view=event
 &id=270:veghte-fest-emlichheim
END:VEVENT
END:VCALENDAR