BEGIN:VCALENDAR
VERSION:2.0
PRODID:-//213.154.231.201//NONSGML kigkonsult.se iCalcreator 2.20//
CALSCALE:GREGORIAN
METHOD:PUBLISH
X-WR-TIMEZONE:Europe/Amsterdam
BEGIN:VEVENT
UID:event271@Piratenkoor "de Stormvogels"
DTSTAMP:20260424T191551Z
CATEGORIES:Openbaar     G.i.
DESCRIPTION:Havendagen Delfzijl\nCategorie: Openbaar     G.i.\nLink: http:/
 /piratenkoor.destormvogels.nl/index.php?option=com_jem&view=event&id=271:h
 avendagen-delfzijl\n
DTSTART;TZID=Europe/Amsterdam:20180901T130000
DTEND;TZID=Europe/Amsterdam:20180901T173000
LOCATION:Delfzijl\,Delfzijl
SUMMARY:Havendagen Delfzijl
URL:http://piratenkoor.destormvogels.nl/index.php?option=com_jem&view=event
 &id=271:havendagen-delfzijl
END:VEVENT
END:VCALENDAR