BEGIN:VCALENDAR
VERSION:2.0
PRODID:-//213.154.231.201//NONSGML kigkonsult.se iCalcreator 2.20//
CALSCALE:GREGORIAN
METHOD:PUBLISH
X-WR-TIMEZONE:Europe/Amsterdam
BEGIN:VEVENT
UID:event273@Piratenkoor "de Stormvogels"
DTSTAMP:20260425T035707Z
CATEGORIES:Openbaar     G.i.
DESCRIPTION:16e Int. Shanty & Seasongfestival  (www.festivalinfo.nl )\nCate
 gorie: Openbaar     G.i.\nLink: http://piratenkoor.destormvogels.nl/index.
 php?option=com_jem&view=event&id=273:16e-int-shanty-seasongfestival\n
DTSTART;TZID=Europe/Amsterdam:20180909T110000
DTEND;TZID=Europe/Amsterdam:20180909T173000
LOCATION:Emmen\, Marktplein\,Marktplein\,Emmen
SUMMARY:16e Int. Shanty & Seasongfestival  (www.festivalinfo.nl )
URL:http://piratenkoor.destormvogels.nl/index.php?option=com_jem&view=event
 &id=273:16e-int-shanty-seasongfestival
END:VEVENT
END:VCALENDAR