BEGIN:VCALENDAR
VERSION:2.0
PRODID:-//213.154.231.201//NONSGML kigkonsult.se iCalcreator 2.20//
CALSCALE:GREGORIAN
METHOD:PUBLISH
X-WR-TIMEZONE:Europe/Amsterdam
BEGIN:VEVENT
UID:event276@Piratenkoor "de Stormvogels"
DTSTAMP:20260424T191537Z
CATEGORIES:Openbaar   Derden
DESCRIPTION:Shantyfestival Scheveningen\nCategorie: Openbaar   Derden\nLink
 : http://piratenkoor.destormvogels.nl/index.php?option=com_jem&view=event&
 id=276:shantyfestival-scheveningen\n
DTSTART;TZID=Europe/Amsterdam:20180923T120000
DTEND;TZID=Europe/Amsterdam:20180923T170000
LOCATION:Scheveningen\, Haven\,Visafslagweg\,Scheveningen
SUMMARY:Shantyfestival Scheveningen
URL:http://piratenkoor.destormvogels.nl/index.php?option=com_jem&view=event
 &id=276:shantyfestival-scheveningen
END:VEVENT
END:VCALENDAR